BEGIN:VCALENDAR
VERSION:2.0
PRODID:-//Sabre//Sabre VObject 3.5.3//EN
CALSCALE:GREGORIAN
BEGIN:VTIMEZONE
TZID:Europe/London
BEGIN:STANDARD
TZNAME:GMT
DTSTART:19701025T020000
RRULE:FREQ=YEARLY;BYMONTH=10;BYDAY=-1SU
TZOFFSETFROM:+0100
TZOFFSETTO:+0000
END:STANDARD
BEGIN:DAYLIGHT
TZNAME:BST
DTSTART:19700329T010000
RRULE:FREQ=YEARLY;BYMONTH=3;BYDAY=-1SU
TZOFFSETFROM:+0000
TZOFFSETTO:+0100
END:DAYLIGHT
END:VTIMEZONE
BEGIN:VEVENT
UID:event_167760@bloomsburymusicgroup.org.uk
DTSTART;TZID=Europe/London:20240518T193000
DTEND;TZID=Europe/London:20240518T213000
SUMMARY:City Mouse\, Country Mouse
DESCRIPTION:The first part of the programme will include the urban works in
 cluding:\n\n	St Clements Prelude&nbsp\;- Rob Wiffin&nbsp\;\n	Quiet City&nb
 sp\;- Aaron Copland\n	London Suite&nbsp\;- Eric Coates\, plus\n	New York\,
  New York (performed by our Jazz Group)\n\nAfter the interval the music le
 aves for the country and will include:\n\n\n	the first movement of the Pas
 toral Symphony by Ludwig Beethoven\n	Moorside Suite&nbsp\;- Gustav Holst\n
 	English Country Gardens&nbsp\;- Percy Grainger\n	pieces played by small e
 nsembles\n	\n		Teddy Bear&#39\;s Picnic (Bassoon quartet)\n		Down by the R
 iverside (Clarinet quartet)\n	\n	\n\n\n\nFor full event details\, visit: h
 ttps://www.bloomsburymusicgroup.org.uk/citymousecountrymouse
LOCATION:St James's Church\, Sussex Gardens\, Paddington\, London\, W2 3UD
URL:https://www.bloomsburymusicgroup.org.uk/citymousecountrymouse
END:VEVENT
END:VCALENDAR
