BEGIN:VCALENDAR
VERSION:2.0
PRODID:-//Sabre//Sabre VObject 3.5.3//EN
CALSCALE:GREGORIAN
BEGIN:VTIMEZONE
TZID:Europe/London
BEGIN:STANDARD
TZNAME:GMT
DTSTART:19701025T020000
RRULE:FREQ=YEARLY;BYMONTH=10;BYDAY=-1SU
TZOFFSETFROM:+0100
TZOFFSETTO:+0000
END:STANDARD
BEGIN:DAYLIGHT
TZNAME:BST
DTSTART:19700329T010000
RRULE:FREQ=YEARLY;BYMONTH=3;BYDAY=-1SU
TZOFFSETFROM:+0000
TZOFFSETTO:+0100
END:DAYLIGHT
END:VTIMEZONE
BEGIN:VEVENT
UID:event_201550@bloomsburymusicgroup.org.uk
DTSTART;TZID=Europe/London:20260516T193000
DTEND;TZID=Europe/London:20260516T213000
SUMMARY:BWE - Spring Concert - Dance around the World
DESCRIPTION:Members of the BWE look forward to performing a concert in May 
 with a programme that will explore music that dances from around the world
 . This will include:\n\n	Polovetsian Dances by Alexander Borodin\n	Prague 
 Waltzes by Antonín Dvořák\n	Danzon no. 2 by Arturo Márquez\n	Krakowiak
  from Two Polish Dances by Patrick Miles\n	Dance Macabre by Camille Saint-
 Saëns\n	Mock Morris by Percy Grainger\n	Rodeo by Aaron Copland\n	West Sid
 e Story by nLeonard Bernstein\n	Can-Can by Jacques Offenbach\n\nTickets wi
 ll be available from this web site later in 2026.\n\nFor full event detail
 s\, visit: https://www.bloomsburymusicgroup.org.uk/springconcert2026
LOCATION:St Gabriel's Church\, Pimlico\, Cambridge St. \, London SW1V 4QF\,
  
URL:https://www.bloomsburymusicgroup.org.uk/springconcert2026
END:VEVENT
END:VCALENDAR
