BEGIN:VCALENDAR
VERSION:2.0
PRODID:-//Sabre//Sabre VObject 3.5.3//EN
CALSCALE:GREGORIAN
BEGIN:VTIMEZONE
TZID:Europe/London
BEGIN:STANDARD
TZNAME:GMT
DTSTART:19701025T020000
RRULE:FREQ=YEARLY;BYMONTH=10;BYDAY=-1SU
TZOFFSETFROM:+0100
TZOFFSETTO:+0000
END:STANDARD
BEGIN:DAYLIGHT
TZNAME:BST
DTSTART:19700329T010000
RRULE:FREQ=YEARLY;BYMONTH=3;BYDAY=-1SU
TZOFFSETFROM:+0000
TZOFFSETTO:+0100
END:DAYLIGHT
END:VTIMEZONE
BEGIN:VEVENT
UID:event_311288@bloomsburymusicgroup.org.uk
DTSTART;TZID=Europe/London:20261128T193000
DTEND;TZID=Europe/London:20261128T213000
SUMMARY:BWE Winter Concert - Tales of Midnight
DESCRIPTION:We have invited our former director of music\, Shea Lolin to cu
 rate\, rehearse and conduct our November &nbsp\;2026 concert.\n\nShea has 
 asked Stephen Chadwick\, one of our tenor saxophonists\, to create an orig
 inal landmark commission for the concert. He is also planning four new arr
 angements for Tales of Midnight as well as selecting music from BWE&#39\;s
  back catalogue.\n\nOur audience will be invited to step into the shadows 
 during an evocative programme exploring folklore\, darkness and imaginatio
 n after dark. From the gothic drama of Marschner&rsquo\;s Overture to&nbsp
 \; Der Vampyr to the haunting introspection of Lili Boulanger&rsquo\;s D&r
 squo\;un Soir Triste\, the concert will weaves atmosphere and emotion thro
 ughout.\n\nGrieg&rsquo\;s unforgettable Peer Gynt scenes will summon troll
 s\, pursuit and profound loss\, while the epic worlds of modern storytelli
 ng will be brought to life in Ramin Djawadi&rsquo\;s Game of Thrones&nbsp\
 ;&nbsp\; theme and Hans Zimmer&rsquo\;s&nbsp\; Interstellar Suite.\n\nThe 
 programme will also include Mozart&rsquo\;s electrifying Don Giovanni Over
 ture \, together with by Svendsen&rsquo\;s noble Andante Funèbre and Dore
 en Carwithen&rsquo\;s gripping film score Mantrap.\n\nFor full event detai
 ls\, visit: https://www.bloomsburymusicgroup.org.uk/dbpage.php?pg=view&dba
 se=events&id=311288
LOCATION:St James's Church\, Sussex Gardens\, Paddington\, London\, W2 3UD
URL:https://www.bloomsburymusicgroup.org.uk/dbpage.php?pg=view&dbase=events
 &id=311288
END:VEVENT
END:VCALENDAR
