BEGIN:VCALENDAR
VERSION:2.0
PRODID:-//Sabre//Sabre VObject 3.5.3//EN
CALSCALE:GREGORIAN
BEGIN:VTIMEZONE
TZID:Europe/London
BEGIN:STANDARD
TZNAME:GMT
DTSTART:19701025T020000
RRULE:FREQ=YEARLY;BYMONTH=10;BYDAY=-1SU
TZOFFSETFROM:+0100
TZOFFSETTO:+0000
END:STANDARD
BEGIN:DAYLIGHT
TZNAME:BST
DTSTART:19700329T010000
RRULE:FREQ=YEARLY;BYMONTH=3;BYDAY=-1SU
TZOFFSETFROM:+0000
TZOFFSETTO:+0100
END:DAYLIGHT
END:VTIMEZONE
BEGIN:VEVENT
UID:event_315160@bloomsburymusicgroup.org.uk
DTSTART;TZID=Europe/London:20260704T150000
DTEND;TZID=Europe/London:20260704T170000
SUMMARY:Vineyard concert
DESCRIPTION:Join us for us for the return of the Concert in the Vineyard! F
 or this outdoors concert at the vineyard owned by one of our members we wi
 ll be playing music suitable for a summer afternoon. Sit out in the vineya
 rd and enjoy the music with a glass of award-winning Wildwood Vineyard win
 e in hand (not included in ticket). This is sure to be a fun and festive e
 vent\, with (hopefully) some good weather to help us usher in the summer s
 eason.\n\nTickets are free of charge and available on a first come\, first
  served basis - so make sure you don&#39\;t miss out and book yours now! F
 or a full day out\, you can book a separate tour of the vineyard earlier i
 n the day.\n\nDIRECTIONS (for other modes of transport see the Vineyard we
 bsite)\nLocation This droplet is set to the vineyard\, and what3words conc
 eals.lavender.dentures directs you to the closest layby. The vineyard is o
 nly accessible by foot.\n\nDriving If using sat nav\, please do NOT use th
 e TN3 post code. It will take you some distance away. You can use your Sma
 rt Phone with Google Maps set for Wildwood Vineyard or aim for the village
  of Eridge and just go a little further southwest (if arriving from London
 ) on the A26. If coming from the south\, aim for Eridge Train Station and 
 head a little further northeast on the A26. There is parking available at 
 public layby just off A26\, identified by a large blue P. Then walk down t
 he bridle path for 400m\, we are on the left. NOTE the layby is a public p
 arking spot. Wildwood Vineyard can accept no responsibility for cars or pr
 operty left here.\n\nPublic transport We are a 7 minute walk from Eridge T
 rain station and we are a 3 minute walk from a bus stop served by 228/229 
 and 28/29 bus services from/to Tunbridge Wells.\n\nExternal website relate
 d to this event: http://www.wildwoodvineyard.co.uk\n\nFor full event detai
 ls\, visit: https://www.bloomsburymusicgroup.org.uk/vineyard-concert-2026
LOCATION:Wildwood Vineyard\, Eridge\, East Sussex TN3
URL:https://www.bloomsburymusicgroup.org.uk/vineyard-concert-2026
END:VEVENT
END:VCALENDAR
